BEGIN:VCALENDAR
VERSION:2.0
PRODID:-//Alcoholics Anonymous of Rockland County - ECPv6.15.11//NONSGML v1.0//EN
CALSCALE:GREGORIAN
METHOD:PUBLISH
X-ORIGINAL-URL:https://rocklandnyaa.org
X-WR-CALDESC:Events for Alcoholics Anonymous of Rockland County
REFRESH-INTERVAL;VALUE=DURATION:PT1H
X-Robots-Tag:noindex
X-PUBLISHED-TTL:PT1H
BEGIN:VTIMEZONE
TZID:America/New_York
BEGIN:DAYLIGHT
TZOFFSETFROM:-0500
TZOFFSETTO:-0400
TZNAME:EDT
DTSTART:20190310T070000
END:DAYLIGHT
BEGIN:STANDARD
TZOFFSETFROM:-0400
TZOFFSETTO:-0500
TZNAME:EST
DTSTART:20191103T060000
END:STANDARD
BEGIN:DAYLIGHT
TZOFFSETFROM:-0500
TZOFFSETTO:-0400
TZNAME:EDT
DTSTART:20200308T070000
END:DAYLIGHT
BEGIN:STANDARD
TZOFFSETFROM:-0400
TZOFFSETTO:-0500
TZNAME:EST
DTSTART:20201101T060000
END:STANDARD
BEGIN:DAYLIGHT
TZOFFSETFROM:-0500
TZOFFSETTO:-0400
TZNAME:EDT
DTSTART:20210314T070000
END:DAYLIGHT
BEGIN:STANDARD
TZOFFSETFROM:-0400
TZOFFSETTO:-0500
TZNAME:EST
DTSTART:20211107T060000
END:STANDARD
BEGIN:DAYLIGHT
TZOFFSETFROM:-0500
TZOFFSETTO:-0400
TZNAME:EDT
DTSTART:20220313T070000
END:DAYLIGHT
BEGIN:STANDARD
TZOFFSETFROM:-0400
TZOFFSETTO:-0500
TZNAME:EST
DTSTART:20221106T060000
END:STANDARD
BEGIN:DAYLIGHT
TZOFFSETFROM:-0500
TZOFFSETTO:-0400
TZNAME:EDT
DTSTART:20230312T070000
END:DAYLIGHT
BEGIN:STANDARD
TZOFFSETFROM:-0400
TZOFFSETTO:-0500
TZNAME:EST
DTSTART:20231105T060000
END:STANDARD
BEGIN:DAYLIGHT
TZOFFSETFROM:-0500
TZOFFSETTO:-0400
TZNAME:EDT
DTSTART:20240310T070000
END:DAYLIGHT
BEGIN:STANDARD
TZOFFSETFROM:-0400
TZOFFSETTO:-0500
TZNAME:EST
DTSTART:20241103T060000
END:STANDARD
BEGIN:DAYLIGHT
TZOFFSETFROM:-0500
TZOFFSETTO:-0400
TZNAME:EDT
DTSTART:20250309T070000
END:DAYLIGHT
BEGIN:STANDARD
TZOFFSETFROM:-0400
TZOFFSETTO:-0500
TZNAME:EST
DTSTART:20251102T060000
END:STANDARD
END:VTIMEZONE
BEGIN:VEVENT
DTSTART;TZID=America/New_York:20240125T193000
DTEND;TZID=America/New_York:20240125T210000
DTSTAMP:20260423T121157
CREATED:20240104T021558Z
LAST-MODIFIED:20240104T021558Z
UID:10001754-1706211000-1706216400@rocklandnyaa.org
SUMMARY:TLC policy on literature
DESCRIPTION:Rockland General Services is inviting you to a scheduled Zoom meeting.\nTopic: TLC policy on literature\nTime: Jan 4\, 2024 07:30 PM Eastern Time (US and Canada)\nEvery week on Thu\, until Jan 25\, 2024\, 4 occurrence(s) \nJan 4\, 2024 07:30 PM\nJan 11\, 2024 07:30 PM\nJan 18\, 2024 07:30 PM\nJan 25\, 2024 07:30 PM \nPlease download and import the following iCalendar (.ics) files to your calendar system.\nWeekly: https://us06web.zoom.us/meeting/tZMvfumhpj0vGta5awWO97Ch_Fuva0tfWOI6/ics?icsToken=98tyKuGvrDIqE9yTtRmFRpwEAIr4c_PxiCFYjbdcyR7yNA8KNSD-CcRXJLMvBN7n \nJoin Zoom Meeting \nhttps://us06web.zoom.us/j/87290986502?pwd=X41HZfc3RN8ubK9xwNn7fzvNnFPh4b.1\nMeeting ID: 872 9098 6502\nPasscode: 002188\n—\nOne tap mobile\n+16469313860\,\,87290986502#\,\,\,\,*002188# US\n+19292056099\,\,87290986502#\,\,\,\,*002188# US (New York)\n—\nDial by your location\n• +1 646 931 3860 US\n• +1 929 205 6099 US (New York)\n• +1 309 205 3325 US\n• +1 312 626 6799 US (Chicago)\n• +1 301 715 8592 US (Washington DC)\n• +1 305 224 1968 US\n• +1 564 217 2000 US\n• +1 669 444 9171 US\n• +1 669 900 6833 US (San Jose)\n• +1 689 278 1000 US\n• +1 719 359 4580 US\n• +1 253 205 0468 US\n• +1 253 215 8782 US (Tacoma)\n• +1 346 248 7799 US (Houston)\n• +1 360 209 5623 US\n• +1 386 347 5053 US\n• +1 507 473 4847 US \nMeeting ID: 872 9098 6502\nPasscode: 002188 \nFind your local number: https://us06web.zoom.us/u/kcE87TW2H2
URL:https://rocklandnyaa.org/event/tlc-policy-on-literature/2024-01-25/
LOCATION:Online
CATEGORIES:Rockland GSO
END:VEVENT
BEGIN:VEVENT
DTSTART;TZID=America/New_York:20231112T193000
DTEND;TZID=America/New_York:20231112T213000
DTSTAMP:20260423T121157
CREATED:20231028T233649Z
LAST-MODIFIED:20231028T234429Z
UID:10001748-1699817400-1699824600@rocklandnyaa.org
SUMMARY:Sponsorship2 Pamphlet Study
DESCRIPTION:Download Flyer: 20231112_Sponsorship2_Pamphlet_Study
URL:https://rocklandnyaa.org/event/sponsorship2-pamphlet-study/
LOCATION:Online
CATEGORIES:Virtual Committee,Workshop
ORGANIZER;CN="Virtual Meeting Committee":MAILTO:virtualmeetings@aarockland.org
END:VEVENT
BEGIN:VEVENT
DTSTART;TZID=America/New_York:20231022T193000
DTEND;TZID=America/New_York:20231022T213000
DTSTAMP:20260423T121157
CREATED:20231013T014430Z
LAST-MODIFIED:20231013T014717Z
UID:10001747-1698003000-1698010200@rocklandnyaa.org
SUMMARY:A Progressive Pamphlet Study - Sponsorship
DESCRIPTION:  \n \nClick here to Oct 22 Sponsorship Pamphlet Study.
URL:https://rocklandnyaa.org/event/a-progressive-pamphlet-study-sponsorship/
LOCATION:Online
CATEGORIES:Virtual Committee
ORGANIZER;CN="Virtual Meeting Committee":MAILTO:virtualmeetings@aarockland.org
END:VEVENT
BEGIN:VEVENT
DTSTART;TZID=America/New_York:20230910T193000
DTEND;TZID=America/New_York:20230910T220000
DTSTAMP:20260423T121157
CREATED:20230831T204553Z
LAST-MODIFIED:20230831T204553Z
UID:10001741-1694374200-1694383200@rocklandnyaa.org
SUMMARY:Progressive Pamphlet Study
DESCRIPTION:Download Flyer here: Sept 10 Progressive Pamphlet Study Flyer –
URL:https://rocklandnyaa.org/event/progressive-pamphlet-study/
LOCATION:Online
CATEGORIES:Virtual Committee
ORGANIZER;CN="Virtual Meeting Committee":MAILTO:virtualmeetings@aarockland.org
END:VEVENT
BEGIN:VEVENT
DTSTART;TZID=America/New_York:20230723T193000
DTEND;TZID=America/New_York:20230723T203000
DTSTAMP:20260423T121157
CREATED:20230718T023727Z
LAST-MODIFIED:20230718T024129Z
UID:10001482-1690140600-1690144200@rocklandnyaa.org
SUMMARY:A Progressive  Pamphlet Study
DESCRIPTION:Progressive Pamphlet Study Flyer
URL:https://rocklandnyaa.org/event/a-progressive-pamphlet-study/
LOCATION:Online
CATEGORIES:Virtual Committee
ORGANIZER;CN="Virtual Meeting Committee":MAILTO:virtualmeetings@aarockland.org
END:VEVENT
BEGIN:VEVENT
DTSTART;TZID=America/New_York:20230713T080000
DTEND;TZID=America/New_York:20230713T170000
DTSTAMP:20260423T121157
CREATED:20230530T211210Z
LAST-MODIFIED:20230619T171504Z
UID:10001475-1689235200-1689267600@rocklandnyaa.org
SUMMARY:The First Four Editions of the Big Book
DESCRIPTION:Here is yet another opportunity to to enjoy the magic of the Big Book. The SENY Archives committee is doing a presentation on all 4 current editions of the Big Book with GSO Archivist Michelle Mirza on July 13th on Zoom\, attached is the poster with all the details. Enjoy!!! \nPlease pass it along to your groups. \nThank you for all that you do.
URL:https://rocklandnyaa.org/event/the-first-four-editions-of-the-big-book-2/
LOCATION:Online
CATEGORIES:SENY Committee
END:VEVENT
BEGIN:VEVENT
DTSTART;TZID=America/New_York:20230611T193000
DTEND;TZID=America/New_York:20230611T213000
DTSTAMP:20260423T121157
CREATED:20230529T225821Z
LAST-MODIFIED:20230530T014616Z
UID:10001474-1686511800-1686519000@rocklandnyaa.org
SUMMARY:Virtual Meeting - Emotional Recovery
DESCRIPTION:Download flyer: Emotional recovery flyer \n 
URL:https://rocklandnyaa.org/event/virtual-meeting-emotional-recovery/
LOCATION:Online
CATEGORIES:Virtual Committee
ORGANIZER;CN="Virtual Meeting Committee":MAILTO:virtualmeetings@aarockland.org
END:VEVENT
BEGIN:VEVENT
DTSTART;TZID=America/New_York:20230507T193000
DTEND;TZID=America/New_York:20230507T213000
DTSTAMP:20260423T121157
CREATED:20230425T020737Z
LAST-MODIFIED:20230425T021002Z
UID:10001471-1683487800-1683495000@rocklandnyaa.org
SUMMARY:Triggers
DESCRIPTION:Triggers Link \nDownload Triggers flyer
URL:https://rocklandnyaa.org/event/triggers/
LOCATION:Online
CATEGORIES:Virtual Committee
ORGANIZER;CN="Virtual Meeting Committee":MAILTO:virtualmeetings@aarockland.org
END:VEVENT
BEGIN:VEVENT
DTSTART;TZID=America/New_York:20230326T193000
DTEND;TZID=America/New_York:20230326T203000
DTSTAMP:20260423T121157
CREATED:20230310T115925Z
LAST-MODIFIED:20230310T115925Z
UID:10001435-1679859000-1679862600@rocklandnyaa.org
SUMMARY:The Net That Works
DESCRIPTION:The Net That Works\nDEVELOPING AND SUSTAINING A RECOVERY\nNETWORK\nThis event welcomes people of all branches of recovery\, including NA\, OA\, Alanon and more.\nThis interactive event will present a panel of people who will share their experience\, strength and hope- followed by questions posed by attendees- to be responded to\, based on panelists’ experiences. \nSunday\, Mar 26\, 2023 at 7:30 PM (Est)\nZoom ID: 864 4058 2693 Password: Virtual \nOr click here to join \nIf you need to attend by phone you can dial in\nto: 929 205 6099 Passcode: 5732498 \nDownload flyer: The Net That Works 2023
URL:https://rocklandnyaa.org/event/the-net-that-works/
LOCATION:Online
CATEGORIES:Virtual Committee
END:VEVENT
BEGIN:VEVENT
DTSTART;TZID=America/New_York:20230226T193000
DTEND;TZID=America/New_York:20230226T233000
DTSTAMP:20260423T121157
CREATED:20230210T024641Z
LAST-MODIFIED:20230210T031632Z
UID:10001433-1677439800-1677454200@rocklandnyaa.org
SUMMARY:Relationships In Recovery
DESCRIPTION:The use and application of effective communication.\nThis interactive event will present a panel of people who will share their\nexperience\, strength and hope – followed by questions posed by attendees – to be responded to\, based on panelists’ experiences.\nSunday\, Feb 26\, 2023 at 7:30 PM\n\nZoom ID: 864 4058 2693 Password: Virtual\nOr click here to join\nIf you need to attend by phone you can dial:\n929 205 6099 Passcode: 5732498\nInterested in getting involved with the VMC?\nFor more info\, please contact the committee at\nvirtualmeetings@aarockland.org \nDownload Feb 26 Relationships 2023 Flyer
URL:https://rocklandnyaa.org/event/relationships-in-recovery/
LOCATION:Online
CATEGORIES:Virtual Committee
END:VEVENT
BEGIN:VEVENT
DTSTART;TZID=America/New_York:20221231T170000
DTEND;TZID=America/New_York:20230101T020000
DTSTAMP:20260423T121157
CREATED:20221207T205213Z
LAST-MODIFIED:20221208T210113Z
UID:10001432-1672506000-1672538400@rocklandnyaa.org
SUMMARY:2022 New Year's Eve Alcathon
DESCRIPTION:Alcathon starts at 5PM\, Eastern Time\,\non Saturday\, December 31\, 2022 and will end\nat 2am\, on Sunday\, January 1\, 2023 \nThere will be fifty-minute meetings\,\nstarting on the hour \nZoom ID: 864 4058 2693\nPassword: Virtual \nDialing in- phone: 929 205 6099\nPassword: 5732498 \nClick here to join. \nAll are invited. Each meeting will follow the\nformat determined by the leader so there will\nbe much variety to enjoy. \nIf your group/meeting is interested in committing\nto a time slot please contact\nvirtualmeetings@aarockland.org\nwhile there are still openings
URL:https://rocklandnyaa.org/event/2022-new-years-eve-alcathon/
LOCATION:Online
CATEGORIES:Alcathon
END:VEVENT
BEGIN:VEVENT
DTSTART;TZID=America/New_York:20221124T170000
DTEND;TZID=America/New_York:20221124T230000
DTSTAMP:20260423T121157
CREATED:20211112T190640Z
LAST-MODIFIED:20221118T035645Z
UID:10001412-1669309200-1669330800@rocklandnyaa.org
SUMMARY:Virtual Thanksgiving Event
DESCRIPTION:Virtual Thanksgiving Event\n\nThursday November 24\, 2022\,\nfrom 5 PM — 11pm est\nThere will be fifty-minute meetings\, starting on the hour \nZoom ID: 864 4058 2693 Password: Virtual\nDialing in- phone: 929 205 6099 Password: 5732498 \nAll are invited. Each meeting will follow the format determined by the leader so there will be much\nvariety to enjoy. \nIf your group/meeting is interested in committing to a time slot\, please contact\nvirtualmeetings@aarockland.org while there are still openings. \n     
URL:https://rocklandnyaa.org/event/virtual-thanksgiving-event/
LOCATION:Online
CATEGORIES:Virtual Committee
END:VEVENT
BEGIN:VEVENT
DTSTART;TZID=America/New_York:20211231T190000
DTEND;TZID=America/New_York:20220101T020000
DTSTAMP:20260423T121157
CREATED:20211212T231832Z
LAST-MODIFIED:20211212T231832Z
UID:10001416-1640977200-1641002400@rocklandnyaa.org
SUMMARY:2021-2022 New Years Eve Alcathon - Virtual
DESCRIPTION:Join us for the 2nd Annual New Years Virtual Alcathon\nhosted by the Virtual Meeting Committee of Rockland County\, NY.\nDate:  12/31/21-1/1/22\nTime: 7:00 pm -2:00am EST\nMeeting ID: 864 4058 2693 \nPasscode:  Virtual \nPrint Flyer
URL:https://rocklandnyaa.org/event/2021-2022-new-years-eve-alcathon-virtual/
LOCATION:Online
END:VEVENT
BEGIN:VEVENT
DTSTART;TZID=America/New_York:20211113T190000
DTEND;TZID=America/New_York:20211113T220000
DTSTAMP:20260423T121157
CREATED:20211102T183126Z
LAST-MODIFIED:20211102T183126Z
UID:10001411-1636830000-1636840800@rocklandnyaa.org
SUMMARY:2021 Bill W. Dinner - A Virtual Affair
DESCRIPTION:NY Intergroup Celebrates: \nThe 87th Sober Anniversary of Found Bill W.\nThe Bill W Dinner: A Virtual Affair\nSaturday Nov 13\, 2021\,  7 – 10 pm\nZoom ID 727 649 1981  PW 123567 \n2 Speakers – Birth of Intergroup – How it Began – Special Features – Countdown – and more! \nCapacity 1000 -n arrive early! \nMusic afterward with DJ Mark \nFree\n2021 Bill W. Dinner
URL:https://rocklandnyaa.org/event/2021-bill-w-dinner-a-virtual-affair/
LOCATION:Online
END:VEVENT
BEGIN:VEVENT
DTSTART;TZID=America/New_York:20211107T090000
DTEND;TZID=America/New_York:20211107T153000
DTSTAMP:20260423T121157
CREATED:20211102T174637Z
LAST-MODIFIED:20211102T174638Z
UID:10001409-1636275600-1636299000@rocklandnyaa.org
SUMMARY:SENY Assembly Area 49 - Virtual
DESCRIPTION:SENY Assembly Virtual\n\nNovember 7 @ 9:00 Am – 3:30 Pm\nVisit aaseny.org for more information
URL:https://rocklandnyaa.org/event/seny-assembly-area-49-virtual/
LOCATION:Online
END:VEVENT
BEGIN:VEVENT
DTSTART;TZID=America/New_York:20210926T193000
DTEND;TZID=America/New_York:20210926T203000
DTSTAMP:20260423T121157
CREATED:20210910T044148Z
LAST-MODIFIED:20210910T044148Z
UID:10001407-1632684600-1632688200@rocklandnyaa.org
SUMMARY:Virtual AA Workshop "Cross-Talk ~ Why it Hurts"
DESCRIPTION:Virtual AA Workshop “Cross-Talk ~ Why it Hurts”\nRockland County AA’s Virtual Meeting Committee\ninvites you to a Virtual AA Workshop\, All are Welcome!\nDate: September 26\, 2021\n7:30 pm to 8:30 pm\nMeeting ID: 864 4058 2693\nPasscode: Virtual\n\nLet us explore all together\, some examples of what MIGHT be considered “cross-talk\,” and how what someone says may affect someone else during any AA meeting.\nThere will be a few skits presented\, with some examples of “cross-talk” situations.\nThen\, we will open up the workshop for sharing.
URL:https://rocklandnyaa.org/event/virtual-aa-workshop-cross-talk-why-it-hurts/
LOCATION:Online
END:VEVENT
BEGIN:VEVENT
DTSTART;TZID=America/New_York:20210818T193000
DTEND;TZID=America/New_York:20210818T203000
DTSTAMP:20260423T121157
CREATED:20160907T045005Z
LAST-MODIFIED:20210617T004840Z
UID:10001006-1629315000-1629318600@rocklandnyaa.org
SUMMARY:Rockland General Service - No Meeting
DESCRIPTION:Not meeting in July and August\, 2021.
URL:https://rocklandnyaa.org/event/rockland-general-service-meeting-2021-08-18/
LOCATION:Online
END:VEVENT
BEGIN:VEVENT
DTSTART;TZID=America/New_York:20210721T193000
DTEND;TZID=America/New_York:20210721T203000
DTSTAMP:20260423T121157
CREATED:20160907T045005Z
LAST-MODIFIED:20210617T004714Z
UID:10001005-1626895800-1626899400@rocklandnyaa.org
SUMMARY:Rockland General Service No Meeting
DESCRIPTION:Not meeting in July and August.
URL:https://rocklandnyaa.org/event/rockland-general-service-meeting-2021-07-21/
LOCATION:Online
END:VEVENT
BEGIN:VEVENT
DTSTART;TZID=America/New_York:20210612T090000
DTEND;TZID=America/New_York:20210612T153000
DTSTAMP:20260423T121157
CREATED:20210608T214319Z
LAST-MODIFIED:20210608T214334Z
UID:10001394-1623488400-1623511800@rocklandnyaa.org
SUMMARY:2021 SENY Post-Conference Assembly- Virtual
DESCRIPTION:The SENY Post-Conference Assembly! \nThis Saturday\, June 12\, 2021 \nCome and hear our Delegate’s full report-back on the 71st General Service Conference\, including 49 Advisory Actions\, Agenda Items on the Delegate’s Questionnaire\, information on items of particular interest to our Area\, and plenty of time for Q&A. \nAll A.A. members are invited to attend! \nRoom Opens: 8:30AM\nSENY Service Sponsorship workshop: 9:00AM – 9:45AM\nAssembly: 10:00AM – 3:30PM \nMeeting ID: 941 1361 6477\nPasscode: 162574 \nDial in: (646) 558-8656\nMeeting ID: 941 1361 6477\nPasscode: 162574 \nThe agenda and other meeting documents can be found here: aaseny.org/tempdocuments \nReminder: Please rename yourself with your name and service position.\nEx. Earl S. DCM \n2021 SENY Meetings Schedule \nHow to join a Breakout Room \nDon’t forget to update Zoom! \nInstructional video here: How to update Zoom \nSee you Saturday! \nHosted by SENY Area 49
URL:https://rocklandnyaa.org/event/seny-post-conference-assembly-virtual/
LOCATION:Online
END:VEVENT
BEGIN:VEVENT
DTSTART;TZID=America/New_York:20210601T200000
DTEND;TZID=America/New_York:20210601T210000
DTSTAMP:20260423T121157
CREATED:20160828T083726Z
LAST-MODIFIED:20210510T013257Z
UID:10000836-1622577600-1622581200@rocklandnyaa.org
SUMMARY:Intergroup Meeting
DESCRIPTION:First Tuesday of the month. \nMonthly Intergroup Meeting\nTime: 08:00 PM Eastern Time \nJoin Zoom Meeting\nhttps://us02web.zoom.us/j/88993065991 \nMeeting ID: 889 9306 5991\nPasscode: Service\nOne tap mobile\n+19292056099\,\,88993065991#\,\,\,\,\,\,0#\,\,396572# US (New York)\n+13126266799\,\,88993065991#\,\,\,\,\,\,0#\,\,396572# US (Chicago) \nDial by your location\n+1 929 205 6099 US (New York) \nAll Rockland County groups are encouraged to send a representative and to become involved in Intergroup service committees.
URL:https://rocklandnyaa.org/event/intergroup-meeting-2021-06-01/
LOCATION:Online
END:VEVENT
BEGIN:VEVENT
DTSTART;TZID=America/New_York:20210601T180000
DTEND;TZID=America/New_York:20210601T180000
DTSTAMP:20260423T121157
CREATED:20160828T172905Z
LAST-MODIFIED:20210522T042439Z
UID:10000900-1622570400-1622570400@rocklandnyaa.org
SUMMARY:Booker's Exchange Virtual
DESCRIPTION:June Bookers Meeting\nJune 1\, 2021\n6:00 PM Eastern Time\n\nJoin Zoom Meeting\nhttps://us02web.zoom.us/j/87136325051\n\n\n\n\nMeeting ID: 871 3632 5051\nPasscode: BookEm\n\n\n\nOne tap mobile\n+13126266799\,\,87136325051#\,\,\,\,*579162# US (Chicago)\n+19292056099\,\,87136325051#\,\,\,\,*579162# US (New York)\nDial by your location\n+1 312 626 6799 US (Chicago)\n+1 929 205 6099 US (New York)\n+1 301 715 8592 US (Washington DC)\n+1 346 248 7799 US (Houston)\n+1 669 900 6833 US (San Jose)\n+1 253 215 8782 US (Tacoma)\nMeeting ID: 871 3632 5051\nPasscode: 579162\nFind your local number: https://us02web.zoom.us/u/kdEXBAQdXO
URL:https://rocklandnyaa.org/event/bookers-exchange-2020-03-03-2021-06-01/
LOCATION:Online
END:VEVENT
BEGIN:VEVENT
DTSTART;TZID=America/New_York:20210406T200000
DTEND;TZID=America/New_York:20210406T210000
DTSTAMP:20260423T121157
CREATED:20160828T083726Z
LAST-MODIFIED:20210331T034321Z
UID:10000834-1617739200-1617742800@rocklandnyaa.org
SUMMARY:Intergroup Meeting Virtual
DESCRIPTION:First Tuesday of the month. \nMonthly Intergroup Meeting\nTime: 08:00 PM Eastern Time \nJoin Zoom Meeting\nhttps://us02web.zoom.us/j/88993065991 \nMeeting ID: 889 9306 5991\nPasscode: Service\nOne tap mobile\n+19292056099\,\,88993065991#\,\,\,\,\,\,0#\,\,396572# US (New York)\n+13126266799\,\,88993065991#\,\,\,\,\,\,0#\,\,396572# US (Chicago) \nDial by your location\n+1 929 205 6099 US (New York) \nAll Rockland County groups are encouraged to send a representative and to become involved in Intergroup service committees.
URL:https://rocklandnyaa.org/event/intergroup-meeting-2021-04-06/
LOCATION:Online
END:VEVENT
BEGIN:VEVENT
DTSTART;TZID=America/New_York:20210318T200000
DTEND;TZID=America/New_York:20210318T210000
DTSTAMP:20260423T121157
CREATED:20201005T000103Z
LAST-MODIFIED:20201005T000353Z
UID:10001241-1616097600-1616101200@rocklandnyaa.org
SUMMARY:Rockland Virtual Meeting Committee Meeting
DESCRIPTION:The Rockland Virtual Meeting Committee meets virtually every Thursday at 8:00 pm \nAll are welcome to attend the committee meeting. \nMeeting ID:  86440582693 \nPassword: Virtual \nContact virtualmeetings@aarockland.org w/ questions
URL:https://rocklandnyaa.org/event/rockland-virtual-meeting-committee-meeting/2021-03-18/
LOCATION:Online
END:VEVENT
BEGIN:VEVENT
DTSTART;TZID=America/New_York:20210302T200000
DTEND;TZID=America/New_York:20210302T210000
DTSTAMP:20260423T121157
CREATED:20160828T083726Z
LAST-MODIFIED:20210302T053544Z
UID:10000833-1614715200-1614718800@rocklandnyaa.org
SUMMARY:Intergroup Meeting Virtual
DESCRIPTION:First Tuesday of the month. \nMonthly Intergroup Meeting\nTime: 08:00 PM Eastern Time \nJoin Zoom Meeting\nhttps://us02web.zoom.us/j/88993065991 \nMeeting ID: 889 9306 5991\nPasscode: Service\nOne tap mobile\n+19292056099\,\,88993065991#\,\,\,\,\,\,0#\,\,396572# US (New York)\n+13126266799\,\,88993065991#\,\,\,\,\,\,0#\,\,396572# US (Chicago) \nDial by your location\n+1 929 205 6099 US (New York) \nAll Rockland County groups are encouraged to send a representative and to become involved in Intergroup service committees.
URL:https://rocklandnyaa.org/event/intergroup-meeting-2021-03-02/
LOCATION:Online
END:VEVENT
BEGIN:VEVENT
DTSTART;TZID=America/New_York:20210123T090000
DTEND;TZID=America/New_York:20210123T153000
DTSTAMP:20260423T121157
CREATED:20210110T042133Z
LAST-MODIFIED:20210116T211043Z
UID:10001375-1611392400-1611415800@rocklandnyaa.org
SUMMARY:SENY Virtual Assembly
DESCRIPTION:SENY Assembly (Area 49)\nJanuary 23\, 9 am – 3:30 pm\nSaturday\, January 23\, 2021Zoom Meeting ID: 934 5779 7433Passcode: 291839Dial in: (646) 558-8656Zoom Meeting ID: 934 5779 7433Passcode: 291839Room Opens: 8:30AMWorkshops: 9:00AM – 9:45AMAssembly Business: 10:00AM – 3:30PMAssembly Agenda in English and SpanishThe unapproved November 14th Assembly minutes are here in English and SpanishMessage about our Assembly workshops!To successfully provide workshops at our Assemblies\, we ask the Area to get familiar with how to join breakout rooms within the virtual meeting. It’s not feasible to place people in the Breakout rooms one by one\, so we need your help!Please check out the 2-minute virtual tips videos and pdfs here: aaseny.org/virtual-tipsThank you so much\,Nisaa A.SENY Area 49 Chairperson
URL:https://rocklandnyaa.org/event/seny-virtual-assembly/
LOCATION:Online
END:VEVENT
BEGIN:VEVENT
DTSTART;TZID=America/New_York:20210120T190000
DTEND;TZID=America/New_York:20210120T193000
DTSTAMP:20260423T121157
CREATED:20210104T232225Z
LAST-MODIFIED:20210104T232339Z
UID:10001253-1611169200-1611171000@rocklandnyaa.org
SUMMARY:Informational Workshop for New and Prospective General Service Reps and Committee Members
DESCRIPTION:Informational Workshop for New and Prospective General Service Reps and Committee Members\nBegins one half hour before the regular monthly General Service meeting. \nNew and prospective GS Reps\, and those interested in serving as committee members\, should attend. \n\nLink: https://zoom.us/j/99662818407?pwd=ODdzdzdkdEUyRGhYL0E5UG5iZjR4UT09\n\nDial-In: +1(929) 205-6099\nMeeting ID: 996 6281 8407\nPasscode: 280593\n\n\nAll Rockland County groups are encouraged to send a representative and to become involved in General Service committees.
URL:https://rocklandnyaa.org/event/informational-workshop-for-new-and-prospective-general-service-reps-and-committee-members/
LOCATION:Online
END:VEVENT
BEGIN:VEVENT
DTSTART;TZID=America/New_York:20201231T180000
DTEND;TZID=America/New_York:20210101T020000
DTSTAMP:20260423T121157
CREATED:20201120T230908Z
LAST-MODIFIED:20201120T230908Z
UID:10001249-1609437600-1609466400@rocklandnyaa.org
SUMMARY:Rockland New Year's Eve Virtual Alcathon
DESCRIPTION:Rockland County New Year’s Eve Virtual Alcathon!\nDecember 31/2020 to January 1/ 2021\n6 PM – 2 AM EST\n825 2085 4220\npasscode 868593\nCarry the message and\nZOOM into 2021 together
URL:https://rocklandnyaa.org/event/rockland-new-years-eve-virtual-alcathon/
LOCATION:Online
END:VEVENT
BEGIN:VEVENT
DTSTART;TZID=America/New_York:20201224T180000
DTEND;TZID=America/New_York:20201225T180000
DTSTAMP:20260423T121157
CREATED:20201211T172822Z
LAST-MODIFIED:20201217T020047Z
UID:10001251-1608832800-1608919200@rocklandnyaa.org
SUMMARY:2020 Rockland Virtual Holiday Alcathon
DESCRIPTION:2020 Rockland Virtual Holiday Alcathon\nDec 24 at 6 PM to Dec 25 at 5 PM\n(Last meeting starts on Dec 25 at 4 PM) \nCome Early\, Stay Late!  Enjoy Fellowship between meetings!\nhttps://zoom.us/j/94310422641?pwd=aVlBL1czb3hjd0JHS3dOQUtKUDdMdz09 \nMeeting ID 943 1042 2641\,  Passcode: Alcathon \nOne tap mobile\n+19292056099\,\,94310422641#\,\,\,\,\,\,0#\,\,87854107# US (New York)\n+13126266799\,\,94310422641#\,\,\,\,\,\,0#\,\,87854107# US (Chicago) \nDial by your location\n+1 929 205 6099 US (New York)\n+1 312 626 6799 US (Chicago)\n+1 301 715 8592 US (Washington D.C)\n+1 253 215 8782 US (Tacoma)\n+1 346 248 7799 US (Houston)\n+1 669 900 6833 US (San Jose)\nMeeting ID: 943 1042 2641\nPasscode: 87854107 \nHosted by Rockland County General Service\n \nFLYER
URL:https://rocklandnyaa.org/event/2020-rockland-virtual-holiday-alcathon/
LOCATION:Online
END:VEVENT
BEGIN:VEVENT
DTSTART;TZID=America/New_York:20201201T200000
DTEND;TZID=America/New_York:20201201T210000
DTSTAMP:20260423T121157
CREATED:20160828T083726Z
LAST-MODIFIED:20201130T175431Z
UID:10000830-1606852800-1606856400@rocklandnyaa.org
SUMMARY:Intergroup Meeting - Virtual
DESCRIPTION:First Tuesday of the month. \n8:00 pm\nHere is the login information for the meeting:\n\n\nTopic: Monthly Intergroup Meeting\nTime: Dec 1\, 2020 08:00 PM Eastern Time (US and Canada)\nhttps://us02web.zoom.us/meeting/tZwkfuqoqD4jE9VGtTisrPWe8jbxF3N-6jEL/ics?icsToken=98tyKuGgpzIpGtKQuRCGRpw-HYr4b_TwpiVEj_pruwvRCjNBUjTzbuhAKpQsPpWG\nJoin Zoom Meeting\nhttps://us02web.zoom.us/j/88993065991\nMeeting ID: 889 9306 5991\nPasscode: Service\nOne tap mobile\n1 (929) 205-6099\nPasscode: 396572# US (New York)\n\nAll Rockland County groups are encouraged to send a representative and to become involved in Intergroup service committees.
URL:https://rocklandnyaa.org/event/intergroup-meeting-2020-12-01/
LOCATION:Online
END:VEVENT
BEGIN:VEVENT
DTSTART;TZID=America/New_York:20201103T200000
DTEND;TZID=America/New_York:20201103T210000
DTSTAMP:20260423T121157
CREATED:20160828T083726Z
LAST-MODIFIED:20201102T020300Z
UID:10000829-1604433600-1604437200@rocklandnyaa.org
SUMMARY:Intergroup Meeting
DESCRIPTION:First Tuesday of the month. \nThis is an extra-important meeting.  We will be soliciting nominations for positions that are rotating out this year. \nVirtual Meeting at 8:00 pm.\nTopic: Monthly Intergroup Meeting\nTime: Nov 3\, 2020 08:00 PM Eastern Time (US and Canada)\nhttps://us02web.zoom.us/meeting/tZwkfuqoqD4jE9VGtTisrPWe8jbxF3N-6jEL/ics?icsToken=98tyKuGgpzIpGtKQuRCGRpw-HYr4b_TwpiVEj_pruwvRCjNBUjTzbuhAKpQsPpWG\nJoin Zoom Meeting\nhttps://us02web.zoom.us/j/88993065991\nMeeting ID: 889 9306 5991\nPasscode: Service\n929 205 6099\nMeeting ID: 889 9306 5991\nPasscode: 396572\nAll Rockland County groups are encouraged to send a representative and to become involved in Intergroup service committees.
URL:https://rocklandnyaa.org/event/intergroup-meeting-2020-11-03/
LOCATION:Online
END:VEVENT
END:VCALENDAR