BEGIN:VCALENDAR
VERSION:2.0
PRODID:-//Alcoholics Anonymous of Rockland County - ECPv6.15.11//NONSGML v1.0//EN
CALSCALE:GREGORIAN
METHOD:PUBLISH
X-ORIGINAL-URL:https://rocklandnyaa.org
X-WR-CALDESC:Events for Alcoholics Anonymous of Rockland County
REFRESH-INTERVAL;VALUE=DURATION:PT1H
X-Robots-Tag:noindex
X-PUBLISHED-TTL:PT1H
BEGIN:VTIMEZONE
TZID:America/New_York
BEGIN:DAYLIGHT
TZOFFSETFROM:-0500
TZOFFSETTO:-0400
TZNAME:EDT
DTSTART:20180311T070000
END:DAYLIGHT
BEGIN:STANDARD
TZOFFSETFROM:-0400
TZOFFSETTO:-0500
TZNAME:EST
DTSTART:20181104T060000
END:STANDARD
BEGIN:DAYLIGHT
TZOFFSETFROM:-0500
TZOFFSETTO:-0400
TZNAME:EDT
DTSTART:20190310T070000
END:DAYLIGHT
BEGIN:STANDARD
TZOFFSETFROM:-0400
TZOFFSETTO:-0500
TZNAME:EST
DTSTART:20191103T060000
END:STANDARD
BEGIN:DAYLIGHT
TZOFFSETFROM:-0500
TZOFFSETTO:-0400
TZNAME:EDT
DTSTART:20200308T070000
END:DAYLIGHT
BEGIN:STANDARD
TZOFFSETFROM:-0400
TZOFFSETTO:-0500
TZNAME:EST
DTSTART:20201101T060000
END:STANDARD
END:VTIMEZONE
BEGIN:VEVENT
DTSTART;TZID=America/New_York:20190903T190000
DTEND;TZID=America/New_York:20190903T200000
DTSTAMP:20260422T075535
CREATED:20160828T172905Z
LAST-MODIFIED:20200205T042450Z
UID:10000859-1567537200-1567540800@rocklandnyaa.org
SUMMARY:Booker's Exchange
DESCRIPTION:Please arrive 10 minutes early.
URL:https://rocklandnyaa.org/event/bookers-exchange/2019-09-03/
LOCATION:St Stephen’s Episcopal Church\, 84 Ehrhardt Rd\, Pearl River\, NY\, 10965\, United States
GEO:41.0665928;-74.003767
X-APPLE-STRUCTURED-LOCATION;VALUE=URI;X-ADDRESS=St Stephen’s Episcopal Church 84 Ehrhardt Rd Pearl River NY 10965 United States;X-APPLE-RADIUS=500;X-TITLE=84 Ehrhardt Rd:geo:-74.003767,41.0665928
END:VEVENT
BEGIN:VEVENT
DTSTART;TZID=America/New_York:20190903T193000
DTEND;TZID=America/New_York:20190903T210000
DTSTAMP:20260422T075535
CREATED:20160828T083726Z
LAST-MODIFIED:20240922T193334Z
UID:10001795-1567539000-1567544400@rocklandnyaa.org
SUMMARY:Intergroup Meeting
DESCRIPTION:First Tuesday of the month. \nSt. Stephen’s Episcopal Church\, 84 Ehrhardt Rd.\, Pearl River at 7:30 pm.\nAll Rockland County groups are encouraged to send a representative and to become involved in Intergroup service committees.
URL:https://rocklandnyaa.org/event/intergroup-meeting/2019-09-03/
LOCATION:St Stephen’s Episcopal Church\, 84 Ehrhardt Rd\, Pearl River\, NY\, 10965\, United States
CATEGORIES:Committee
GEO:41.0665928;-74.003767
X-APPLE-STRUCTURED-LOCATION;VALUE=URI;X-ADDRESS=St Stephen’s Episcopal Church 84 Ehrhardt Rd Pearl River NY 10965 United States;X-APPLE-RADIUS=500;X-TITLE=84 Ehrhardt Rd:geo:-74.003767,41.0665928
END:VEVENT
BEGIN:VEVENT
DTSTART;TZID=America/New_York:20190905T080000
DTEND;TZID=America/New_York:20190908T170000
DTSTAMP:20260422T075535
CREATED:20190620T224838Z
LAST-MODIFIED:20190620T235330Z
UID:10000896-1567670400-1567962000@rocklandnyaa.org
SUMMARY:23rd National AA Archives Workshop
DESCRIPTION:23rd National AA Archives Workshop: Our Footprints to Hope and Recovery\nPresentations – Workshops – Panels – Displays\nVenue:\nHotel St. Regis\n3071 W. Grand Boulevard\nDetroit\, MI \nReservations:\nPhone: 313-873-3000\nOnline: hotelstregisdetroit.com\nCode: NAAAW \nRegistration – $40\nBanquet – $50 \nClick here for more info\n \nClick here for flyer
URL:https://rocklandnyaa.org/event/23rd-national-aa-archives-workshop/
LOCATION:Hotel St Regis\, 3071 West Grand Boulevard\, Detroit\, MI\, 48202\, United States
END:VEVENT
END:VCALENDAR