BEGIN:VCALENDAR
VERSION:2.0
PRODID:-//Alcoholics Anonymous of Rockland County - ECPv6.15.11//NONSGML v1.0//EN
CALSCALE:GREGORIAN
METHOD:PUBLISH
X-WR-CALNAME:Alcoholics Anonymous of Rockland County
X-ORIGINAL-URL:https://rocklandnyaa.org
X-WR-CALDESC:Events for Alcoholics Anonymous of Rockland County
REFRESH-INTERVAL;VALUE=DURATION:PT1H
X-Robots-Tag:noindex
X-PUBLISHED-TTL:PT1H
BEGIN:VTIMEZONE
TZID:America/New_York
BEGIN:DAYLIGHT
TZOFFSETFROM:-0500
TZOFFSETTO:-0400
TZNAME:EDT
DTSTART:20230312T070000
END:DAYLIGHT
BEGIN:STANDARD
TZOFFSETFROM:-0400
TZOFFSETTO:-0500
TZNAME:EST
DTSTART:20231105T060000
END:STANDARD
BEGIN:DAYLIGHT
TZOFFSETFROM:-0500
TZOFFSETTO:-0400
TZNAME:EDT
DTSTART:20240310T070000
END:DAYLIGHT
BEGIN:STANDARD
TZOFFSETFROM:-0400
TZOFFSETTO:-0500
TZNAME:EST
DTSTART:20241103T060000
END:STANDARD
BEGIN:DAYLIGHT
TZOFFSETFROM:-0500
TZOFFSETTO:-0400
TZNAME:EDT
DTSTART:20250309T070000
END:DAYLIGHT
BEGIN:STANDARD
TZOFFSETFROM:-0400
TZOFFSETTO:-0500
TZNAME:EST
DTSTART:20251102T060000
END:STANDARD
END:VTIMEZONE
BEGIN:VEVENT
DTSTART;TZID=America/New_York:20241203T190000
DTEND;TZID=America/New_York:20241203T200000
DTSTAMP:20260421T152013
CREATED:20240522T145033Z
LAST-MODIFIED:20240522T145034Z
UID:10000880-1733252400-1733256000@rocklandnyaa.org
SUMMARY:Booker's Exchange
DESCRIPTION:Please arrive 10 minutes early. \nSt Stephen’s Episcopal Church\, 84 Ehrhardt Rd.\, Pearl River\, NY.   6:50 pm \nEvery 3rd month\, on the first Tuesday.
URL:https://rocklandnyaa.org/event/bookers-exchange-2/2024-12-03/
LOCATION:St Stephen’s Episcopal Church\, 84 Ehrhardt Rd\, Pearl River\, NY\, 10965\, United States
GEO:41.0665928;-74.003767
X-APPLE-STRUCTURED-LOCATION;VALUE=URI;X-ADDRESS=St Stephen’s Episcopal Church 84 Ehrhardt Rd Pearl River NY 10965 United States;X-APPLE-RADIUS=500;X-TITLE=84 Ehrhardt Rd:geo:-74.003767,41.0665928
END:VEVENT
BEGIN:VEVENT
DTSTART;TZID=America/New_York:20241203T193000
DTEND;TZID=America/New_York:20241203T210000
DTSTAMP:20260421T152013
CREATED:20160828T083726Z
LAST-MODIFIED:20240922T193334Z
UID:10001858-1733254200-1733259600@rocklandnyaa.org
SUMMARY:Intergroup Meeting
DESCRIPTION:First Tuesday of the month. \nSt. Stephen’s Episcopal Church\, 84 Ehrhardt Rd.\, Pearl River at 7:30 pm.\nAll Rockland County groups are encouraged to send a representative and to become involved in Intergroup service committees.
URL:https://rocklandnyaa.org/event/intergroup-meeting/2024-12-03/
LOCATION:St Stephen’s Episcopal Church\, 84 Ehrhardt Rd\, Pearl River\, NY\, 10965\, United States
CATEGORIES:Committee
GEO:41.0665928;-74.003767
X-APPLE-STRUCTURED-LOCATION;VALUE=URI;X-ADDRESS=St Stephen’s Episcopal Church 84 Ehrhardt Rd Pearl River NY 10965 United States;X-APPLE-RADIUS=500;X-TITLE=84 Ehrhardt Rd:geo:-74.003767,41.0665928
END:VEVENT
BEGIN:VEVENT
DTSTART;TZID=America/New_York:20241208T170000
DTEND;TZID=America/New_York:20241208T180000
DTSTAMP:20260421T152013
CREATED:20180227T215819Z
LAST-MODIFIED:20230823T180856Z
UID:10001564-1733677200-1733680800@rocklandnyaa.org
SUMMARY:WORCYPAA
DESCRIPTION:e-mail WORCYPAACHAIR@GMAIL.COM\nchair: Alison K. \nWe meet every 2nd & 4th Sunday @ 5:00 pm!\n\nGood Shepherd Church\nPearl River\n\nWe are also currently Hybrid here is the link for zoom\n\nhttps://us02web.zoom.us/j/86857039488
URL:https://rocklandnyaa.org/event/worcypaa-2/2024-12-08/
LOCATION:Good Shepard Lutheran Church\, 112 North Main St\, Pearl River\, NY\, 10965\, United States
CATEGORIES:Committee
END:VEVENT
BEGIN:VEVENT
DTSTART;TZID=America/New_York:20241217T203000
DTEND;TZID=America/New_York:20241217T220000
DTSTAMP:20260421T152013
CREATED:20200805T011404Z
LAST-MODIFIED:20200805T011713Z
UID:10001370-1734467400-1734472800@rocklandnyaa.org
SUMMARY:NY State-Wide YPAA Virtual Meeting
DESCRIPTION:Monthly New York State-Wide YPAA Meeting -Virtual\nThird Tuesday of every month at 8:30 EST\nSpeaker Meeting followed by open sharing \nGreat way to connect with AAs across the state outside of business meetings!! \nZoom format Meeting ID: 920 160 4799  \nPassword: escypaa  \nPresented by the ESCYPAA Advisory\n \nFLYER (PDF)
URL:https://rocklandnyaa.org/event/ny-state-wide-ypaa-virtual-meeting/2024-12-17/
LOCATION:NY
END:VEVENT
BEGIN:VEVENT
DTSTART;TZID=America/New_York:20241218T193000
DTEND;TZID=America/New_York:20241218T203000
DTSTAMP:20260421T152013
CREATED:20160907T045005Z
LAST-MODIFIED:20230310T120700Z
UID:10001028-1734550200-1734553800@rocklandnyaa.org
SUMMARY:Rockland General Service Meeting with Virtual option
DESCRIPTION:Rockland County General Service is meeting in person on the third Wednesday of every month.\nMeeting starts at 7:30 pm \nRockland County General Service Committee\nMeets Third Wednesday of the month @ 7:30 PM\nClarkstown Reformed Church\n107 Strawtown Rd.\, West Nyack\, NY \nCan’t make it in person\, please use the virtual option.\nhttps://us06web.zoom.us/j/85938729240?pwd=RmxvdjJwMTVSV1NZMk01QzBKd2lvQT09\nMeeting ID: 859 3872 9240\nPasscode: 406571 \nGSRs and Committee Chairs\, please make every effort to attend.\nIf you can’t make it\, consider sending the alternate GSR from your group. \nAll Rockland County groups are encouraged to send a representative and to become involved in General Service committees.
URL:https://rocklandnyaa.org/event/rockland-general-service-meeting-december/2024-12-18/
LOCATION:Clarkstown Reformed Church\, 107 Strawtown Rd\, West Nyack\, NY\, 10994
CATEGORIES:DCMC Meeting,GSR Meeting
END:VEVENT
BEGIN:VEVENT
DTSTART;TZID=America/New_York:20241222T170000
DTEND;TZID=America/New_York:20241222T180000
DTSTAMP:20260421T152013
CREATED:20230425T014435Z
LAST-MODIFIED:20230823T181208Z
UID:10001690-1734886800-1734890400@rocklandnyaa.org
SUMMARY:WORCYPAA
DESCRIPTION:e-mail WORCYPAACHAIR@GMAIL.COM\nchair: Alison K. \nWe meet every 2nd & 4th Sunday @ 5:00 pm!\n\nGood Shepherd Church\nPearl River\n\nWe are also currently Hybrid here is the link for zoom\n\nhttps://us02web.zoom.us/j/86857039488
URL:https://rocklandnyaa.org/event/worcypaa/2024-12-22/
LOCATION:Good Shepard Lutheran Church\, 112 North Main St\, Pearl River\, NY\, 10965\, United States
CATEGORIES:Committee
END:VEVENT
BEGIN:VEVENT
DTSTART;TZID=America/New_York:20241224T180000
DTEND;TZID=America/New_York:20241225T180000
DTSTAMP:20260421T152013
CREATED:20241126T103929Z
LAST-MODIFIED:20241126T111211Z
UID:10001984-1735063200-1735149600@rocklandnyaa.org
SUMMARY:2024 Rockland County Alcathon
DESCRIPTION:Download Flyer here: 2024_Alcathon_Flyer
URL:https://rocklandnyaa.org/event/2024-rockland-county-alcathon/
LOCATION:Rockland Council on Alcoholism\, 25 Smith Street\, Nanuet\, NY\, 10954\, United States
CATEGORIES:Alcathon,Rockland GSO
END:VEVENT
END:VCALENDAR