BEGIN:VCALENDAR
VERSION:2.0
PRODID:-//Alcoholics Anonymous of Rockland County - ECPv6.15.11//NONSGML v1.0//EN
CALSCALE:GREGORIAN
METHOD:PUBLISH
X-WR-CALNAME:Alcoholics Anonymous of Rockland County
X-ORIGINAL-URL:https://rocklandnyaa.org
X-WR-CALDESC:Events for Alcoholics Anonymous of Rockland County
REFRESH-INTERVAL;VALUE=DURATION:PT1H
X-Robots-Tag:noindex
X-PUBLISHED-TTL:PT1H
BEGIN:VTIMEZONE
TZID:America/New_York
BEGIN:DAYLIGHT
TZOFFSETFROM:-0500
TZOFFSETTO:-0400
TZNAME:EDT
DTSTART:20220313T070000
END:DAYLIGHT
BEGIN:STANDARD
TZOFFSETFROM:-0400
TZOFFSETTO:-0500
TZNAME:EST
DTSTART:20221106T060000
END:STANDARD
BEGIN:DAYLIGHT
TZOFFSETFROM:-0500
TZOFFSETTO:-0400
TZNAME:EDT
DTSTART:20230312T070000
END:DAYLIGHT
BEGIN:STANDARD
TZOFFSETFROM:-0400
TZOFFSETTO:-0500
TZNAME:EST
DTSTART:20231105T060000
END:STANDARD
BEGIN:DAYLIGHT
TZOFFSETFROM:-0500
TZOFFSETTO:-0400
TZNAME:EDT
DTSTART:20240310T070000
END:DAYLIGHT
BEGIN:STANDARD
TZOFFSETFROM:-0400
TZOFFSETTO:-0500
TZNAME:EST
DTSTART:20241103T060000
END:STANDARD
BEGIN:DAYLIGHT
TZOFFSETFROM:-0500
TZOFFSETTO:-0400
TZNAME:EDT
DTSTART:20250309T070000
END:DAYLIGHT
BEGIN:STANDARD
TZOFFSETFROM:-0400
TZOFFSETTO:-0500
TZNAME:EST
DTSTART:20251102T060000
END:STANDARD
END:VTIMEZONE
BEGIN:VEVENT
DTSTART;TZID=America/New_York:20230610T190000
DTEND;TZID=America/New_York:20230610T200000
DTSTAMP:20260423T150212
CREATED:20230517T181348Z
LAST-MODIFIED:20230518T023410Z
UID:10001473-1686423600-1686427200@rocklandnyaa.org
SUMMARY:Founders Day Evening
DESCRIPTION:
URL:https://rocklandnyaa.org/event/founders-day-evening/
LOCATION:All Souls Community Church\, 65 Washington Ave\, Suffern\, NY\, 10901\, United States
CATEGORIES:Group
END:VEVENT
BEGIN:VEVENT
DTSTART;TZID=America/New_York:20231021T180000
DTEND;TZID=America/New_York:20231021T210000
DTSTAMP:20260423T150212
CREATED:20230906T141538Z
LAST-MODIFIED:20230906T141538Z
UID:10001742-1697911200-1697922000@rocklandnyaa.org
SUMMARY:Walking Through Time
DESCRIPTION:Download flyer here
URL:https://rocklandnyaa.org/event/walking-through-time/
LOCATION:All Souls Community Church\, 65 Washington Ave\, Suffern\, NY\, 10901\, United States
CATEGORIES:Group
END:VEVENT
BEGIN:VEVENT
DTSTART;TZID=America/New_York:20231119T133000
DTEND;TZID=America/New_York:20231119T213000
DTSTAMP:20260423T150212
CREATED:20230831T102412Z
LAST-MODIFIED:20230831T102413Z
UID:10001739-1700400600-1700429400@rocklandnyaa.org
SUMMARY:Fuente de Vida 15avo. Aniversario
DESCRIPTION:
URL:https://rocklandnyaa.org/event/fuente-de-vida-15avo-aniversario/
LOCATION:Fiesta Del Huerto\, 220 North Main St\, Spring Valley\, NY\, 10977\, United States
CATEGORIES:Anniversary,Group
END:VEVENT
BEGIN:VEVENT
DTSTART;TZID=America/New_York:20240310T180000
DTEND;TZID=America/New_York:20240310T210000
DTSTAMP:20260423T150212
CREATED:20240218T020716Z
LAST-MODIFIED:20240218T020717Z
UID:10001755-1710093600-1710104400@rocklandnyaa.org
SUMMARY:New Light Group - 51st Anniversary
DESCRIPTION:
URL:https://rocklandnyaa.org/event/new-light-group-51st-anniversary/
LOCATION:Central Presbyterian Church of Haverstraw\, 89 Hudson Ave.\, Haverstraw\, NY\, 10927\, United States
CATEGORIES:Anniversary,Group
END:VEVENT
BEGIN:VEVENT
DTSTART;TZID=America/New_York:20240629T180000
DTEND;TZID=America/New_York:20240629T210000
DTSTAMP:20260423T150212
CREATED:20240605T191139Z
LAST-MODIFIED:20240605T191256Z
UID:10001925-1719684000-1719694800@rocklandnyaa.org
SUMMARY:West Nyack Group 50th Anniversary
DESCRIPTION:Download flyer for West Nyack Group Anniversary
URL:https://rocklandnyaa.org/event/west-nyack-group-50th-anniversary/
LOCATION:St. Anthony’s Church\, 36 West Nyack Rd\, Nanuet\, NY\, 10954\, United States
CATEGORIES:Anniversary,Group
END:VEVENT
END:VCALENDAR